BEGIN:VCALENDAR
VERSION:2.0
PRODID:-//https://digby.ca//NONSGML kigkonsult.se iCalcreator 2.29.29//
CALSCALE:GREGORIAN
METHOD:PUBLISH
UID:9b15e735-373c-4820-a634-54557b9e4822
X-WR-CALNAME:JCal Pro Calendar
X-WR-CALDESC:Your online events calendar
X-WR-TIMEZONE:America/Halifax
BEGIN:VTIMEZONE
TZID:America/Halifax
BEGIN:STANDARD
TZNAME:AST
DTSTART:20251102T020000
TZOFFSETFROM:-0300
TZOFFSETTO:-0400
RDATE:20261101T020000
END:STANDARD
BEGIN:DAYLIGHT
TZNAME:ADT
DTSTART:20260308T020000
TZOFFSETFROM:-0400
TZOFFSETTO:-0300
RDATE:20270314T020000
END:DAYLIGHT
END:VTIMEZONE
BEGIN:VEVENT
UID:20191216T180000AST-6119E2vuZ3@https://digby.ca/
DTSTAMP:20260421T101809Z
CATEGORIES:Council Meetings
DTSTART;TZID=America/Halifax:20191216T180000
DTEND;TZID=America/Halifax:20191216T190000
SUMMARY:Committee of the Whole monthly meeting
URL:https://digby.ca/36-council-meetings/5925-committee-of-the-whole-monthl
 y-meeting.html
END:VEVENT
END:VCALENDAR
