BEGIN:VCALENDAR
VERSION:2.0
PRODID:-//https://digby.ca//NONSGML kigkonsult.se iCalcreator 2.29.29//
CALSCALE:GREGORIAN
METHOD:PUBLISH
UID:d8f53003-cf4d-4da0-8a4d-521fd88d6f11
X-WR-CALNAME:JCal Pro Calendar
X-WR-CALDESC:Your online events calendar
X-WR-TIMEZONE:America/Halifax
BEGIN:VTIMEZONE
TZID:America/Halifax
BEGIN:STANDARD
TZNAME:AST
DTSTART:20251102T020000
TZOFFSETFROM:-0300
TZOFFSETTO:-0400
RDATE:20261101T020000
END:STANDARD
BEGIN:DAYLIGHT
TZNAME:ADT
DTSTART:20260308T020000
TZOFFSETFROM:-0400
TZOFFSETTO:-0300
RDATE:20270314T020000
END:DAYLIGHT
END:VTIMEZONE
BEGIN:VEVENT
UID:20230701T113000ADT-4719h9WaEa@https://digby.ca/
DTSTAMP:20260421T024451Z
CATEGORIES:Special Events
DTSTART;TZID=America/Halifax:20230701T113000
DTEND;TZID=America/Halifax:20230701T133000
SUMMARY:Canada Day in Digby
URL:https://digby.ca/38-special-events/6089-canada-day-in-digby.html
END:VEVENT
END:VCALENDAR
