BEGIN:VCALENDAR
VERSION:2.0
PRODID:-//https://digby.ca//NONSGML kigkonsult.se iCalcreator 2.29.29//
CALSCALE:GREGORIAN
METHOD:PUBLISH
UID:ffaaa0f4-c0fd-45a9-872b-28b661f6bb3d
X-WR-CALNAME:JCal Pro Calendar
X-WR-CALDESC:Your online events calendar
X-WR-TIMEZONE:America/Halifax
BEGIN:VTIMEZONE
TZID:America/Halifax
BEGIN:STANDARD
TZNAME:AST
DTSTART:20251102T020000
TZOFFSETFROM:-0300
TZOFFSETTO:-0400
RDATE:20261101T020000
END:STANDARD
BEGIN:DAYLIGHT
TZNAME:ADT
DTSTART:20260308T020000
TZOFFSETFROM:-0400
TZOFFSETTO:-0300
RDATE:20270314T020000
END:DAYLIGHT
END:VTIMEZONE
BEGIN:VEVENT
UID:20240402T180000ADT-4921vwx6wR@https://digby.ca/
DTSTAMP:20260421T180543Z
CATEGORIES:Council Meetings
DTSTART;TZID=America/Halifax:20240402T180000
DTEND;TZID=America/Halifax:20240402T200000
SUMMARY:Council Meeting
URL:https://digby.ca/36-council-meetings/6095-council-meeting.html
END:VEVENT
END:VCALENDAR
