BEGIN:VCALENDAR
VERSION:2.0
PRODID:-//https://digby.ca//NONSGML kigkonsult.se iCalcreator 2.29.29//
CALSCALE:GREGORIAN
METHOD:PUBLISH
UID:0115d34f-6b92-4f87-8b70-237e15061051
X-WR-CALNAME:JCal Pro Calendar
X-WR-CALDESC:Your online events calendar
X-WR-TIMEZONE:America/Halifax
BEGIN:VTIMEZONE
TZID:America/Halifax
BEGIN:STANDARD
TZNAME:AST
DTSTART:20251102T020000
TZOFFSETFROM:-0300
TZOFFSETTO:-0400
RDATE:20261101T020000
END:STANDARD
BEGIN:DAYLIGHT
TZNAME:ADT
DTSTART:20260308T020000
TZOFFSETFROM:-0400
TZOFFSETTO:-0300
RDATE:20270314T020000
END:DAYLIGHT
END:VTIMEZONE
BEGIN:VEVENT
UID:20241007T180000ADT-92809AftSF@https://digby.ca/
DTSTAMP:20260422T024534Z
CATEGORIES:Council Meetings
DTSTART;TZID=America/Halifax:20241007T180000
DTEND;TZID=America/Halifax:20241007T200000
SUMMARY:Council Meeting
URL:https://digby.ca/36-council-meetings/6114-council-meeting.html
END:VEVENT
BEGIN:VEVENT
UID:20241012T090000ADT-9590U8UoGA@https://digby.ca/
DTSTAMP:20260422T024534Z
CATEGORIES:Special Events
DTSTART;TZID=America/Halifax:20241012T090000
DTEND;TZID=America/Halifax:20241019T000000
SUMMARY:Advance Polling Beings
URL:https://digby.ca/38-special-events/6115-advance-polling-beings.html
END:VEVENT
BEGIN:VEVENT
UID:20241019T090000ADT-7670r7MHPU@https://digby.ca/
DTSTAMP:20260422T024534Z
CATEGORIES:Special Events
DTSTART;TZID=America/Halifax:20241019T090000
DTEND;TZID=America/Halifax:20241019T100000
SUMMARY:2024 Municipal Election
URL:https://digby.ca/38-special-events/6109-2024-municipal-election.html
END:VEVENT
BEGIN:VEVENT
UID:20241021T180000ADT-5598BuJmeH@https://digby.ca/
DTSTAMP:20260422T024534Z
CATEGORIES:Monthly Meetings
DTSTART;TZID=America/Halifax:20241021T180000
DTEND;TZID=America/Halifax:20241021T200000
SUMMARY:Committee of the Whole Meeting
URL:https://digby.ca/37-monthly-meetings/6117-committee-of-the-whole-meetin
 g.html
END:VEVENT
END:VCALENDAR
