BEGIN:VCALENDAR
VERSION:2.0
PRODID:-//https://digby.ca//NONSGML kigkonsult.se iCalcreator 2.29.29//
CALSCALE:GREGORIAN
METHOD:PUBLISH
UID:5143052c-cc0d-4085-9c9c-6669846a8034
X-WR-CALNAME:JCal Pro Calendar
X-WR-CALDESC:Your online events calendar
X-WR-TIMEZONE:America/Halifax
BEGIN:VTIMEZONE
TZID:America/Halifax
BEGIN:STANDARD
TZNAME:AST
DTSTART:20251102T020000
TZOFFSETFROM:-0300
TZOFFSETTO:-0400
RDATE:20261101T020000
END:STANDARD
BEGIN:DAYLIGHT
TZNAME:ADT
DTSTART:20260308T020000
TZOFFSETFROM:-0400
TZOFFSETTO:-0300
RDATE:20270314T020000
END:DAYLIGHT
END:VTIMEZONE
BEGIN:VEVENT
UID:20250210T180000AST-0665gRvvTm@https://digby.ca/
DTSTAMP:20260420T172237Z
CATEGORIES:Special Events
DTSTART;TZID=America/Halifax:20250210T180000
DTEND;TZID=America/Halifax:20250210T200000
SUMMARY:Planning Advisory Committee Meeting
URL:https://digby.ca/38-special-events/6137-planning-advisory-committee-mee
 ting.html
END:VEVENT
END:VCALENDAR
